Workbook
Name 区: OFFSET([1]Sheet2!$C$1,MATCH([1]Sheet2!$AB1&[1]Sheet2!$AC1,[1]Sheet2!$A$2:$A$4009&[1]Sheet2!$B$2:$B$4009,0),0,COUNTIFS([1]Sheet2!$A$1:$A$65536,[1]Sheet2!$AB1,[1]Sheet2!$B$1:$B$65536,[1]Sheet2!$AC1))
Name 省: [1]Sheet2!$H$2:$H$36
Name 市: OFFSET([1]Sheet2!$F$1,MATCH([1]Sheet2!$AB1,[1]Sheet2!$E$2:$E$4009,0),0,COUNTIF([1]Sheet2!$E$1:$E$65536,[1]Sheet2!$AB1))

Sheet 申报条件
A1: 申报条件
A2: 职业等级 | B2: 报考条件
A3: 五级 | B3: （1）年满 16 周岁，拟从事本职业或相关职业工作。 （2）年满 16 周岁，从事本职业或相关职业工作。
A4: 四级 | B4: （1）累计从事本职业或相关职业工作满 5 年。 （2）取得本职业或相关职业五级/初级工职业资格（职业技能等级）证书后，累计从事本职业或相关职业工满3年。 （3）取得本专业或相关专业的技工院校或中等及以上职业院校、专科及以上普通高等学校毕业证书（含在读应届毕业生）。
A5: 三级 | B5: （1）累计从事本职业或相关职业工作满 10 年。 （2）取得本职业或相关职业四级/中级工职业资格（职业技能等级）证书后，累计从事本职业或相关职业工作满 4年。 （3）取得符合专业对应关系的初级职称（专业技术人员职业资格）后，累计从事本职业或相关职业工作满 1 年。 （4）取得本专业或相关专业的技工院校高级工班及以上毕业证书（含在读应届毕业生）。 （5）取得本职业或相关职业四级/中级工职业资格（职业技能等级）证书，并取得高等职业学校、专科及以上普通高等学校本专业或相关专业毕业证书（含在读应届毕业生）。 （6）取得经评估论证的高等职业学校、专科及以上普通高等学校本专业或相关专业的毕业证书（含在读应届毕业生）。
A6: 二级 | B6: （1）取得本职业或相关职业三级/高级工职业资格（职业技能等级）证书后，累计从事本职业或相关职业工作满 5年。 （2）取得符合专业对应关系的初级职称（专业技术人员职业资格）后，累计从事本职业或相关职业工作满 5 年，并在取得本职业或相关职业三级/高级工职业资格（职业技能等级）证书后，从事本职业或相关职业工作满 1 年。 （3）取得符合专业对应关系的中级职称（专业技术人员职业资格）后，累计从事本职业或相关职业工作满 1 年。 （4）取得本职业或相关职业三级/高级工职业资格（职业技能等级）证书的高级技工学校、技师学院毕业生，累计从事本职业或相关职业工作满 2 年。 （5）取得本职业或相关职业三级/高级工职业资格（职业技 能等级）证书满 2 年的技师学院预备技师班、技师班学生。
A7: 一级 | B7: （1）取得本职业或相关职业二级/技师职业资格(职业技能等级)证书后，累计从事本职业或相关职业工作满 5 年。 （2）取得符合专业对应关系的中级职称后，累计从事本职业或相关职业工作满 5 年，并在取得本职业或相关职业二级/技师职业资格(职业技能等级)证书后，从事本职业或相关职业工作满 1 年。 （3）取得符合专业对应关系的高级职称(专业技术人员职业资格)后，累计从事本职业或相关职业工作满 1 年。
A8: 注：相应的职业等级申报条件中，具备以上条件之一者，皆可报名。

Sheet 材料说明
A1: 材料说明
A2: 序号 | B2: 材料说明 | C2: 电子档材料 | D2: 纸质档材料
A3: 1 | B3: 湖北省软件行业协会职业技能等级认定申报表 | C3: √ | D3: √ （考生签字、按手印）
A4: 2 | B4: 身份证 | C4: √ （扫描件-图片嵌入表格） | D4: ×
A5: 3 | B5: 学历证明 注：学历证明包括学历证书、学位证书、学校在校证明等 | C5: √ （扫描件-图片嵌入表格） | D5: ×
A6: 4 | B6: 工作年限证明 注1：如报考条件对工作年限有要求，需提交《工作年限证明》，否则不提交 | C6: √ （视报考条件提供） | D6: √ （视报考条件提供，单位盖章）
A7: 5 | B7: 社保缴纳证明（系统导出） | C7: √ | D7: ×
A8: 6 | B8: 职业资格/职业技能等级证书 注：报考条件选择取得本职业或相关职业资格或职业技能等级证书的须提交 | C8: √ （视报考条件提供） | D8: ×
A9: 7 | B9: 职称证书或专业技术人员职业资格证书 注：报考条件选择取得符合专业对应关系的初级职称的须提交 | C9: √ （视报考条件提供） | D9: ×
A10: 8 | B10: 其他提及的必要材料 | C10: √ （视情况提供） | D10: ×
A12: 如有疑问欢迎电话咨询：胡老师 13294120665（同微信）

Sheet 申报表
A1: 湖北省软件行业协会职业技能等级认定申报表
A2: 姓名 | C2: 性别 | E2: 出生日期 | G2: 照片要求： 近半年1寸白底彩照 选中单元格 点击“插入-图片” 选中本地图片 嵌入图片至单元格
A3: 证件类型 | C3: 证件号
A4: 手机号码 | C4: 考生来源 | E4: 邮政编码
A5: 省份 | C5: 城市 | E5: 区县
A6: 毕业院校
A7: 所学专业 | C7: 文化程度 | E7: 邮箱
A8: 政治面貌 | C8: 民族 | E8: 学历证书编号
A9: 参加工作时间 | C9: 工龄 | E9: 现从事职业
A10: 所在单位
A11: 简要经历 | B11: XXXX年XX月-XXXX年XX月，XXXX单位（单位全称），单位所在市（县），从事岗位工作 ……
A12: 证书领取 | B12: 领取方式
B13: 邮寄地址
A14: 原职业 （工种） | C14: 原技能等级 | E14: 原证书编号
A15: 职称专业 | C15: 技术职称 | E15: 证书编号
A16: 申报职业 | C16: 级别 | E16: 申报职业工龄 | G16: 申报条件
A17: 考生承诺： 本人已确认以上报考信息，不再更改。 本人已知晓并将严格遵守本职业(工种)的报考条件及资格审核相关要求，承诺本次填报和提交的所有信息及材料真实、完整、准确、有效。如有失信或弄虚作假，本人愿意承担一切不实承诺引起的后果及法律责任并接受相关处理，包括但不限于：被取消申报资格、已参加考试的被取消当次考试所有科目成绩、已获得证书则被注销证书数据检索及职业技能等级证书资格的处理、相关行为被登记在职业技能等级认定诚信档案。 考生签名(加盖手印) 年 月 日

Sheet 身份证&学历证明
A1: 身份证（扫描件） | C1: 学位证书（扫描件）
A2: 选中单元格，点击“插入-图片” 选中本地图片，嵌入图片至单元格 | C2: 选中单元格，点击“插入-图片” 选中本地图片，嵌入图片至单元格
A4: 学历证书（扫描件） | C4: 学校在校证明（扫描件）
A5: 选中单元格，点击“插入-图片” 选中本地图片，嵌入图片至单元格 | C5: 选中单元格，点击“插入-图片” 选中本地图片，嵌入图片至单元格

Sheet 工作年限证明（单位）
A1: 工作年限证明
A2: 湖北省软件行业协会： 现有我单位员工 人，申请参加 人工智能训练师 (职业/工种)职业技能等级认定考试，人员名单如下：
A3: 序号 | B3: 姓名 | C3: 身份证号 | D3: 报考等级
A4: 1 | B4: 可视情况增加行数
A5: 经查，以上同志在工作期间遵纪守法，无违反职业操守的行为，我单位对本单位相关工作简历真实性负责。 单位(盖章): 经办人(签名) ： 联系电话： 年 月 日

Sheet 职称&职业证书
A1: 职业资格证书（扫描件） | C1: 职称证书（扫描件）
A2: 选中单元格，点击“插入-图片” 选中本地图片，嵌入图片至单元格 | C2: 选中单元格，点击“插入-图片” 选中本地图片，嵌入图片至单元格
A4: 职业技能等级证书（扫描件） | C4: 专业技术人员职业资格证书（扫描件）
A5: 选中单元格，点击“插入-图片” 选中本地图片，嵌入图片至单元格 | C5: 选中单元格，点击“插入-图片” 选中本地图片，嵌入图片至单元格

Sheet 考生导入
A1: 申报表表述 | B1: / | C1: / | D1: / | E1: / | F1: / | G1: / | H1: / | I1: / | J1: / | K1: / | L1: / | M1: / | N1: / | O1: / | P1: / | Q1: / | R1: / | S1: / | T1: / | U1: / | V1: / | W1: / | X1: / | Y1: / | Z1: / | AA1: / | AB1: / | AC1: / | AD1: / | AE1: / | AF1: 原职业 （工种） | AG1: 原技能等级 | AL1: 职称专业
A2: 系统表述 | B2: 序号 | C2: 姓名 | D2: 证件类型 | E2: 证件号 | F2: 性别 | G2: 出生日期 | H2: 文化程度 | I2: 考生来源 | J2: 证书领取 | K2: 职业名称 | L2: 工种名称 | M2: 级别 | N2: 申报条件 | O2: 手机号码 | P2: 参加工作时间 | Q2: 所学专业 | R2: 申报职业工龄 | S2: 民族 | T2: 政治面貌 | U2: 学历证书编号 | V2: 简要经历 | W2: 邮政编码 | X2: 所在单位 | Y2: 通讯地址 | Z2: 邮寄地址 | AA2: 邮箱 | AB2: 户籍所在地 | AC2: 省份 | AD2: 城市 | AE2: 区县 | AF2: 原证书职业 | AG2: 原证书等级 | AH2: 原证书编号 | AI2: 上级管理部门 | AJ2: 工龄 | AK2: 现从事职业 | AL2: 专业 | AM2: 技术职称 | AN2: 证书编号 | AO2: 证件照 | AP2: 身份证 | AQ2: 学历证书 | AR2: 学位证书 | AS2: 学校在校证明
A3: 具体信息 | C3: =VLOOKUP(C2,申报表!A:H,2,FALSE) -> 0 | D3: =VLOOKUP(D2,申报表!A:H,2,FALSE) -> 0 | E3: =VLOOKUP(E2,申报表!C:H,2,FALSE) -> 0 | F3: =VLOOKUP(F2,申报表!C:H,2,FALSE) -> 0 | G3: =VLOOKUP(G2,申报表!E:H,2,FALSE) -> 0 | H3: =VLOOKUP(H2,申报表!C:H,2,FALSE) -> 0 | I3: =VLOOKUP(I2,申报表!C:H,2,FALSE) -> 0 | J3: =VLOOKUP(J2,申报表!A:H,2,FALSE) -> 领取方式 | K3: 人工智能训练师 | M3: =VLOOKUP(M2,申报表!C:H,2,FALSE) -> 0 | N3: =VLOOKUP(N2,申报表!G:H,2,FALSE) -> 0 | O3: =VLOOKUP(O2,申报表!A:H,2,FALSE) -> 0 | P3: =VLOOKUP(P2,申报表!A:H,2,FALSE) -> 0 | Q3: =VLOOKUP(Q2,申报表!A:H,2,FALSE) -> 0 | R3: =VLOOKUP(R2,申报表!E:H,3,FALSE) -> 申报条件 | S3: =VLOOKUP(S2,申报表!C:D,2,FALSE) -> 0 | T3: =VLOOKUP(T2,申报表!A:B,2,FALSE) -> 0 | U3: =VLOOKUP(U2,申报表!E:F,2,FALSE) -> 0 | V3: =VLOOKUP(V2,申报表!A:H,2,FALSE) -> XXXX年XX月-XXXX年XX月，XXXX单位（单位全称），单位所在市（县），从事岗位工作 …… | W3: =VLOOKUP(W2,申报表!E:H,2,FALSE) -> 0 | X3: =VLOOKUP(X2,申报表!A:H,2,FALSE) -> 0 | Z3: =VLOOKUP(Z2,申报表!B:C,2,FALSE) -> 0 | AA3: =VLOOKUP(AA2,申报表!E:F,2,FALSE) -> 0 | AC3: =VLOOKUP(AC2,申报表!A:H,2,FALSE) -> 0 | AD3: =VLOOKUP(AD2,申报表!C:H,2,FALSE) -> 0 | AE3: =VLOOKUP(AE2,申报表!E:H,2,FALSE) -> 0 | AF3: =VLOOKUP(AF1,申报表!A:B,2,FALSE) -> 0 | AG3: =VLOOKUP(AG1,申报表!C:D,2,FALSE) -> 0 | AH3: =VLOOKUP(AH2,申报表!E:F,2,FALSE) -> 0 | AJ3: =VLOOKUP(AJ2,申报表!C:H,2,FALSE) -> 0 | AK3: =VLOOKUP(AK2,申报表!E:H,2,FALSE) -> 0 | AL3: =VLOOKUP(AL1,申报表!A:B,2,FALSE) -> 0 | AM3: =VLOOKUP(AM2,申报表!C:D,2,FALSE) -> 0 | AN3: =VLOOKUP(AN2,申报表!E:F,2,FALSE) -> 0 | AO3: =申报表!G2 -> 照片要求： 近半年1寸白底彩照 选中单元格 点击“插入-图片” 选中本地图片 嵌入图片至单元格 | AP3: ='身份证&学历证明'!A2 -> 选中单元格，点击“插入-图片” 选中本地图片，嵌入图片至单元格 | AQ3: ='身份证&学历证明'!A5 -> 选中单元格，点击“插入-图片” 选中本地图片，嵌入图片至单元格 | AR3: ='身份证&学历证明'!C2 -> 选中单元格，点击“插入-图片” 选中本地图片，嵌入图片至单元格 | AS3: ='身份证&学历证明'!C5 -> 选中单元格，点击“插入-图片” 选中本地图片，嵌入图片至单元格
